BEGIN:VCALENDAR
VERSION:2.0
PRODID:-//Tukios.com/
BEGIN:VEVENT
UID:c9c617a1-9bef-43eb-8ec1-a012639f707d@www.twcrowfuneralhome.com
DTSTAMP:20260422T013445Z
DTSTART:20260423T160000Z
DTEND:20260423T170000Z
SUMMARY:Funeral Service
DESCRIPTION:
URL:https://www.twcrowfuneralhome.com/obituaries/tammy-rather
LOCATION: 201 N Court St  Scottsville KY 42164
GEO:36.754543;-86.1908693
END:VEVENT
END:VCALENDAR