BEGIN:VCALENDAR
VERSION:2.0
PRODID:-//Tukios.com/
BEGIN:VEVENT
UID:439f5a78-3037-4c1a-8fce-20438acf1df0@www.twcrowfuneralhome.com
DTSTAMP:20260422T013239Z
DTSTART:20260423T140000Z
DTEND:20260423T160000Z
SUMMARY:Visitation
DESCRIPTION:
URL:https://www.twcrowfuneralhome.com/obituaries/tammy-rather
LOCATION: 201 N Court St  Scottsville KY 42164
GEO:36.754543;-86.1908693
END:VEVENT
END:VCALENDAR