BEGIN:VCALENDAR
VERSION:2.0
PRODID:-//Tukios.com/
BEGIN:VEVENT
UID:ffee4a05-5f73-49a8-a75e-3388a860b4e6@www.twcrowfuneralhome.com
DTSTAMP:20260422T013137Z
DTSTART:20260422T220000Z
DTEND:20260423T010000Z
SUMMARY:Visitation
DESCRIPTION:
URL:https://www.twcrowfuneralhome.com/obituaries/tammy-rather
LOCATION: 201 N Court St  Scottsville KY 42164
GEO:36.754543;-86.1908693
END:VEVENT
END:VCALENDAR